BEGIN:VCALENDAR
VERSION:2.0
PRODID:-//Financial Literacy Advocate - ECPv6.15.20//NONSGML v1.0//EN
CALSCALE:GREGORIAN
METHOD:PUBLISH
X-WR-CALNAME:Financial Literacy Advocate
X-ORIGINAL-URL:https://financialliteracyadvocate.org
X-WR-CALDESC:Events for Financial Literacy Advocate
REFRESH-INTERVAL;VALUE=DURATION:PT1H
X-Robots-Tag:noindex
X-PUBLISHED-TTL:PT1H
BEGIN:VTIMEZONE
TZID:UTC
BEGIN:STANDARD
TZOFFSETFROM:+0000
TZOFFSETTO:+0000
TZNAME:UTC
DTSTART:20250101T000000
END:STANDARD
END:VTIMEZONE
BEGIN:VEVENT
DTSTART;VALUE=DATE:20260324
DTEND;VALUE=DATE:20260325
DTSTAMP:20260423T191918
CREATED:20260221T160243Z
LAST-MODIFIED:20260324T171013Z
UID:3488-1774310400-1774396799@financialliteracyadvocate.org
SUMMARY:Seminar: Wills & Trusts: 3/24 : Woodstock Library : Tony Argo
DESCRIPTION:Hosted by Tony Argo \nMarch 24th & March 26th @ 11AM EST \nWoodstock Public Library 7735 Main St\, Woodstock\, GA 30188 \n\n\n \n\nAbout the Seminar\nThis seminar provides foundational knowledge and advanced strategies for effective estate planning through Wills and Trusts. Learn how to safeguard your assets\, streamline the distribution process\, and ensure your legacy is protected. \nWhat You Will Learn\n– Core differences between Wills and Trusts. \n– How to structure an estate plan that protects your assets. \n– Common legal mistakes families make and how to avoid them. \n– Key documents every individual should have prepared. \nWho Should Attend?\n– Individuals beginning their estate planning journey. \n– Families wanting to protect generational wealth. \n– Retirees or near-retirees seeking clarity on legal planning. \n– Anyone wanting to understand asset protection and legacy planning. \nWhy This Seminar Matters\nEstate planning affects every family\, regardless of income or background. This seminar ensures you have clear\, accurate information to make informed and confident decisions about your future. \nHow to Register\nSeats are limited. Register today for either available session date listed above. \nEmpowering Families Through Education
URL:https://financialliteracyadvocate.org/seminar/seminar-wills-trusts-3-24-woodstock-library-tony-argo/
CATEGORIES:Wills & Trust Planning
END:VEVENT
BEGIN:VEVENT
DTSTART;TZID=UTC:20260324T120000
DTEND;TZID=UTC:20260324T130000
DTSTAMP:20260423T191918
CREATED:20260219T154807Z
LAST-MODIFIED:20260228T020019Z
UID:3469-1774353600-1774357200@financialliteracyadvocate.org
SUMMARY:Seminar: Wills & Trusts: March 24th : Kevin Brady : Dilip John
DESCRIPTION:Wills & Trusts Estate Planning Strategies\nHosted by Dilip John \nMarch 24th @ 12PM CST and March 26th @ 12 PM CST. \nKevin Brady Community Center\, 2250 Buckthorne Pl\, The Woodlands\, TX 77380 \n\n\n\n \nAbout the Seminar\nThis seminar provides foundational knowledge and advanced strategies for effective estate planning through Wills and Trusts. Learn how to safeguard your assets\, streamline the distribution process\, and ensure your legacy is protected. \nWhat You Will Learn\n– Core differences between Wills and Trusts. \n– How to structure an estate plan that protects your assets. \n– Common legal mistakes families make and how to avoid them. \n– Key documents every individual should have prepared. \nWho Should Attend?\n– Individuals beginning their estate planning journey. \n– Families wanting to protect generational wealth. \n– Retirees or near-retirees seeking clarity on legal planning. \n– Anyone wanting to understand asset protection and legacy planning. \nWhy This Seminar Matters\nEstate planning affects every family\, regardless of income or background. This seminar ensures you have clear\, accurate information to make informed and confident decisions about your future. \nHow to Register\nSeats are limited. Register today for either available session date listed above. \nEmpowering Families Through Education
URL:https://financialliteracyadvocate.org/seminar/wills-trusts-estate-planning-strategies-8/
CATEGORIES:Wills & Trust Planning
END:VEVENT
END:VCALENDAR