BEGIN:VCALENDAR
VERSION:2.0
PRODID:-//Financial Literacy Advocate - ECPv6.15.20//NONSGML v1.0//EN
CALSCALE:GREGORIAN
METHOD:PUBLISH
X-WR-CALNAME:Financial Literacy Advocate
X-ORIGINAL-URL:https://financialliteracyadvocate.org
X-WR-CALDESC:Events for Financial Literacy Advocate
REFRESH-INTERVAL;VALUE=DURATION:PT1H
X-Robots-Tag:noindex
X-PUBLISHED-TTL:PT1H
BEGIN:VTIMEZONE
TZID:UTC
BEGIN:STANDARD
TZOFFSETFROM:+0000
TZOFFSETTO:+0000
TZNAME:UTC
DTSTART:20250101T000000
END:STANDARD
END:VTIMEZONE
BEGIN:VEVENT
DTSTART;TZID=UTC:20260129T120000
DTEND;TZID=UTC:20260129T133000
DTSTAMP:20260423T203216
CREATED:20251201T230150Z
LAST-MODIFIED:20251222T183812Z
UID:3303-1769688000-1769693400@financialliteracyadvocate.org
SUMMARY:Federal Benefits Lunch & Learn Webinar
DESCRIPTION:Federal Benefits:\nHow They Work – How To Plan & Afford Retirement\nHosted by Dilip John\nTuesday\, January 27th\, 2026 – 12:00 PM EST and Thursday\, January 29th\, 2026 – 12:00 PM EST\nOnline – Free to Attend \n\n\n \nAbout the Webinar\nFederal Benefits: Facts vs. Myths. We separate folklore from the actual rules so you can make clear\, confident decisions. \nWhat You Will Learn\n– Understand the key rules behind your federal benefits. \n– Recognize common myths and misconceptions that can derail planning. \n– Learn how to make informed decisions based on facts\, not assumptions. \n– Discover strategies to align your benefits with your long-term goals. \nWho Should Attend?\n– Federal employees within 5–15 years of retirement. \n– Current retirees seeking clarity on managing their benefits. \n– Spouses and family members who want to understand available options. \n– Anyone interested in cutting through misinformation about federal benefits. \nWhy This Webinar Matters\nMany federal employees rely on hearsay or outdated information when making important financial decisions. This session will ensure you have the facts\, empowering you to confidently plan for a secure retirement. \nHow to Register\nSeats are limited. Reserve your spot today for either available session date above (Online). \nEmpowering You to Secure Your Financial Future\nFinancial Literacy Advocates is dedicated to helping federal employees understand and maximize their benefits through education\, clarity\, and confidence.
URL:https://financialliteracyadvocate.org/seminar/federal-benefits-lunch-learn-webinar-4/
CATEGORIES:Federal Benefits
END:VEVENT
BEGIN:VEVENT
DTSTART;TZID=UTC:20260127T120000
DTEND;TZID=UTC:20260127T133000
DTSTAMP:20260423T203216
CREATED:20251201T225851Z
LAST-MODIFIED:20251222T183814Z
UID:3298-1769515200-1769520600@financialliteracyadvocate.org
SUMMARY:Federal Benefits Lunch & Learn Webinar
DESCRIPTION:Federal Benefits:\nHow They Work – How To Plan & Afford Retirement\nHosted by Dilip John\nTuesday\, January 27th\, 2026 – 12:00 PM EST and Thursday\, January 29th\, 2026 – 12:00 PM EST\nOnline – Free to Attend \n\n\n \nAbout the Webinar\nFederal Benefits: Facts vs. Myths. We separate folklore from the actual rules so you can make clear\, confident decisions. \nWhat You Will Learn\n– Understand the key rules behind your federal benefits. \n– Recognize common myths and misconceptions that can derail planning. \n– Learn how to make informed decisions based on facts\, not assumptions. \n– Discover strategies to align your benefits with your long-term goals. \nWho Should Attend?\n– Federal employees within 5–15 years of retirement. \n– Current retirees seeking clarity on managing their benefits. \n– Spouses and family members who want to understand available options. \n– Anyone interested in cutting through misinformation about federal benefits. \nWhy This Webinar Matters\nMany federal employees rely on hearsay or outdated information when making important financial decisions. This session will ensure you have the facts\, empowering you to confidently plan for a secure retirement. \nHow to Register\nSeats are limited. Reserve your spot today for either available session date above (Online). \nEmpowering You to Secure Your Financial Future\nFinancial Literacy Advocates is dedicated to helping federal employees understand and maximize their benefits through education\, clarity\, and confidence.
URL:https://financialliteracyadvocate.org/seminar/federal-benefits-lunch-learn-webinar-3/
CATEGORIES:Federal Benefits
END:VEVENT
END:VCALENDAR