BEGIN:VCALENDAR
VERSION:2.0
PRODID:-//Financial Literacy Advocate - ECPv6.15.20//NONSGML v1.0//EN
CALSCALE:GREGORIAN
METHOD:PUBLISH
X-WR-CALNAME:Financial Literacy Advocate
X-ORIGINAL-URL:https://financialliteracyadvocate.org
X-WR-CALDESC:Events for Financial Literacy Advocate
REFRESH-INTERVAL;VALUE=DURATION:PT1H
X-Robots-Tag:noindex
X-PUBLISHED-TTL:PT1H
BEGIN:VTIMEZONE
TZID:UTC
BEGIN:STANDARD
TZOFFSETFROM:+0000
TZOFFSETTO:+0000
TZNAME:UTC
DTSTART:20250101T000000
END:STANDARD
END:VTIMEZONE
BEGIN:VEVENT
DTSTART;VALUE=DATE:20260516
DTEND;VALUE=DATE:20260517
DTSTAMP:20260423T192549
CREATED:20260301T153802Z
LAST-MODIFIED:20260423T182623Z
UID:3578-1778889600-1778975999@financialliteracyadvocate.org
SUMMARY:Seminar Wills & Trusts: 5/16: Sam and Carmena Goss Memorial Branch: Dilip John
DESCRIPTION:Wills & Trusts + Medicare Essentials\nHosted by Dilip John \nMay 16 @ 11:00 AM CST\nSam and Carmena Goss Memorial Branch\, Mont Belvieu 1 John Hall Dr. Mont Belvieu\, TX 77580 \n\n\n \nAbout the Seminar\nThis seminar provides foundational knowledge and advanced strategies for effective estate planning through Wills and Trusts. Learn how to safeguard your assets\, streamline the distribution process\, and ensure your legacy is protected. \nWhat You Will Learn\n– Core differences between Wills and Trusts. \n– How to structure an estate plan that protects your assets. \n– Common legal mistakes families make and how to avoid them. \n– Key documents every individual should have prepared. \nWho Should Attend?\n– Individuals beginning their estate planning journey. \n– Families wanting to protect generational wealth. \n– Retirees or near-retirees seeking clarity on legal planning. \n– Anyone wanting to understand asset protection and legacy planning. \nWhy This Seminar Matters\nEstate planning affects every family\, regardless of income or background. This seminar ensures you have clear\, accurate information to make informed and confident decisions about your future. \nHow to Register\nSeats are limited. Register today for either available session date listed above. \nEmpowering Families Through Education
URL:https://financialliteracyadvocate.org/seminar/seminar-wills-trusts-5-16-sam-and-carmena-goss-memorial-branch-dilip-john/
CATEGORIES:Wills & Trust Planning
END:VEVENT
END:VCALENDAR