BEGIN:VCALENDAR
VERSION:2.0
PRODID:-//Financial Literacy Advocate - ECPv6.15.20//NONSGML v1.0//EN
CALSCALE:GREGORIAN
METHOD:PUBLISH
X-ORIGINAL-URL:https://financialliteracyadvocate.org
X-WR-CALDESC:Events for Financial Literacy Advocate
REFRESH-INTERVAL;VALUE=DURATION:PT1H
X-Robots-Tag:noindex
X-PUBLISHED-TTL:PT1H
BEGIN:VTIMEZONE
TZID:UTC
BEGIN:STANDARD
TZOFFSETFROM:+0000
TZOFFSETTO:+0000
TZNAME:UTC
DTSTART:20250101T000000
END:STANDARD
END:VTIMEZONE
BEGIN:VEVENT
DTSTART;TZID=UTC:20260217T120000
DTEND;TZID=UTC:20260217T140000
DTSTAMP:20260423T162639
CREATED:20251202T002701Z
LAST-MODIFIED:20260115T201916Z
UID:3321-1771329600-1771336800@financialliteracyadvocate.org
SUMMARY:Federal Benefits Lunch & Learn Webinar
DESCRIPTION:Federal Benefits\nHosted by Bob Cruces\nTuesday\, February 17th\, 2026 – 12:00 PM EST and Thursday\, February 19th\, 2026 – 12:00 PM EST\nOnline – Free to Attend\n\n\n \nAbout the Webinar\nFederal Benefits: Facts vs. Myths. We separate folklore from the actual rules so you can make clear\, confident decisions. \nWhat You Will Learn\n– Understand the key rules behind your federal benefits. \n– Recognize common myths and misconceptions that can derail planning. \n– Learn how to make informed decisions based on facts\, not assumptions. \n– Discover strategies to align your benefits with your long-term goals. \nWho Should Attend?\n– Federal employees within 5–15 years of retirement. \n– Current retirees seeking clarity on managing their benefits. \n– Spouses and family members who want to understand available options. \n– Anyone interested in cutting through misinformation about federal benefits. \nWhy This Webinar Matters\nMany federal employees rely on hearsay or outdated information when making important financial decisions. This session will ensure you have the facts\, empowering you to confidently plan for a secure retirement. \nHow to Register\nSeats are limited. Reserve your spot today for either available session date above (Online). \nEmpowering You to Secure Your Financial Future\nFinancial Literacy Advocates is dedicated to helping federal employees understand and maximize their benefits through education\, clarity\, and confidence.
URL:https://financialliteracyadvocate.org/seminar/federal-benefits-lunch-learn-webinar-7/
CATEGORIES:Federal Benefits
END:VEVENT
BEGIN:VEVENT
DTSTART;TZID=UTC:20260219T120000
DTEND;TZID=UTC:20260219T140000
DTSTAMP:20260423T162639
CREATED:20251202T002730Z
LAST-MODIFIED:20260115T201954Z
UID:3323-1771502400-1771509600@financialliteracyadvocate.org
SUMMARY:Federal Benefits Lunch & Learn Webinar
DESCRIPTION:Federal Benefits\nHosted by Bob Cruces\nThursday\, February 19th\, 2026 – 12:00 PM EST\nOnline – Free to Attend\n\n\n \nAbout the Webinar\nFederal Benefits: Facts vs. Myths. We separate folklore from the actual rules so you can make clear\, confident decisions. \nWhat You Will Learn\n– Understand the key rules behind your federal benefits. \n– Recognize common myths and misconceptions that can derail planning. \n– Learn how to make informed decisions based on facts\, not assumptions. \n– Discover strategies to align your benefits with your long-term goals. \nWho Should Attend?\n– Federal employees within 5–15 years of retirement. \n– Current retirees seeking clarity on managing their benefits. \n– Spouses and family members who want to understand available options. \n– Anyone interested in cutting through misinformation about federal benefits. \nWhy This Webinar Matters\nMany federal employees rely on hearsay or outdated information when making important financial decisions. This session will ensure you have the facts\, empowering you to confidently plan for a secure retirement. \nHow to Register\nSeats are limited. Reserve your spot today for either available session date above (Online). \nEmpowering You to Secure Your Financial Future\nFinancial Literacy Advocates is dedicated to helping federal employees understand and maximize their benefits through education\, clarity\, and confidence.
URL:https://financialliteracyadvocate.org/seminar/federal-benefits-lunch-learn-webinar-8/
CATEGORIES:Federal Benefits
END:VEVENT
BEGIN:VEVENT
DTSTART;TZID=UTC:20260224T120000
DTEND;TZID=UTC:20260224T140000
DTSTAMP:20260423T162639
CREATED:20260115T232803Z
LAST-MODIFIED:20260122T220635Z
UID:3374-1771934400-1771941600@financialliteracyadvocate.org
SUMMARY:Federal Benefits Lunch & Learn Webinar
DESCRIPTION:Federal Benefits\nHosted by Dilip\nTuesday the 24th and Thursday the 26th of February\, 2026 – 12:00 PM EST\nOnline – Free to Attend\n\n\n \nAbout the Webinar\nFederal Benefits: Facts vs. Myths. We separate folklore from the actual rules so you can make clear\, confident decisions. \nWhat You Will Learn\n– Understand the key rules behind your federal benefits. \n– Recognize common myths and misconceptions that can derail planning. \n– Learn how to make informed decisions based on facts\, not assumptions. \n– Discover strategies to align your benefits with your long-term goals. \nWho Should Attend?\n– Federal employees within 5–15 years of retirement. \n– Current retirees seeking clarity on managing their benefits. \n– Spouses and family members who want to understand available options. \n– Anyone interested in cutting through misinformation about federal benefits. \nWhy This Webinar Matters\nMany federal employees rely on hearsay or outdated information when making important financial decisions. This session will ensure you have the facts\, empowering you to confidently plan for a secure retirement. \nHow to Register\nSeats are limited. Reserve your spot today for either available session date above (Online). \nEmpowering You to Secure Your Financial Future\nFinancial Literacy Advocates is dedicated to helping federal employees understand and maximize their benefits through education\, clarity\, and confidence.
URL:https://financialliteracyadvocate.org/seminar/federal-benefits-lunch-learn-webinar-2/
CATEGORIES:Federal Benefits
END:VEVENT
BEGIN:VEVENT
DTSTART;TZID=UTC:20260224T183000
DTEND;TZID=UTC:20260224T200000
DTSTAMP:20260423T162639
CREATED:20251202T003805Z
LAST-MODIFIED:20260203T223323Z
UID:3329-1771957800-1771963200@financialliteracyadvocate.org
SUMMARY:Wills & Trusts Estate Planning Strategies
DESCRIPTION:Wills & Trusts Estate Planning Strategies\nHosted by Bob Cruces\nTuesday\, February 24th\, 2026 – 6:30 PM EST and Saturday\, March 7th\, 2026 – 11:00 AM EST\nGreenburgh Public Library\n\n\n \nAbout the Seminar\nThis seminar provides foundational knowledge and advanced strategies for effective estate planning through Wills and Trusts. Learn how to safeguard your assets\, streamline the distribution process\, and ensure your legacy is protected. \nWhat You Will Learn\n– Core differences between Wills and Trusts. \n– How to structure an estate plan that protects your assets. \n– Common legal mistakes families make and how to avoid them. \n– Key documents every individual should have prepared. \nWho Should Attend?\n– Individuals beginning their estate planning journey. \n– Families wanting to protect generational wealth. \n– Retirees or near-retirees seeking clarity on legal planning. \n– Anyone wanting to understand asset protection and legacy planning. \nWhy This Seminar Matters\nEstate planning affects every family\, regardless of income or background. This seminar ensures you have clear\, accurate information to make informed and confident decisions about your future. \nHow to Register\nSeats are limited. Register today for either available session date listed above. \nEmpowering Families Through Education\nGreenburgh Public Library
URL:https://financialliteracyadvocate.org/seminar/wills-trusts-estate-planning-strategies-3/
CATEGORIES:Wills & Trust Planning
END:VEVENT
BEGIN:VEVENT
DTSTART;TZID=UTC:20260226T120000
DTEND;TZID=UTC:20260226T140000
DTSTAMP:20260423T162639
CREATED:20260122T220715Z
LAST-MODIFIED:20260122T220806Z
UID:3388-1772107200-1772114400@financialliteracyadvocate.org
SUMMARY:Federal Benefits Lunch & Learn Webinar
DESCRIPTION:Federal Benefits\nHosted by Dilip\nThursday\, February 26th\, 2026 – 12:00 PM EST\nOnline – Free to Attend\n\n\n \nAbout the Webinar\nFederal Benefits: Facts vs. Myths. We separate folklore from the actual rules so you can make clear\, confident decisions. \nWhat You Will Learn\n– Understand the key rules behind your federal benefits. \n– Recognize common myths and misconceptions that can derail planning. \n– Learn how to make informed decisions based on facts\, not assumptions. \n– Discover strategies to align your benefits with your long-term goals. \nWho Should Attend?\n– Federal employees within 5–15 years of retirement. \n– Current retirees seeking clarity on managing their benefits. \n– Spouses and family members who want to understand available options. \n– Anyone interested in cutting through misinformation about federal benefits. \nWhy This Webinar Matters\nMany federal employees rely on hearsay or outdated information when making important financial decisions. This session will ensure you have the facts\, empowering you to confidently plan for a secure retirement. \nHow to Register\nSeats are limited. Reserve your spot today for either available session date above (Online). \nEmpowering You to Secure Your Financial Future\nFinancial Literacy Advocates is dedicated to helping federal employees understand and maximize their benefits through education\, clarity\, and confidence.
URL:https://financialliteracyadvocate.org/seminar/federal-benefits-lunch-learn-webinar-9/
CATEGORIES:Federal Benefits
END:VEVENT
END:VCALENDAR